BEGIN:VCALENDAR
VERSION:2.0
PRODID:icalendar-ruby
CALSCALE:GREGORIAN
METHOD:PUBLISH
BEGIN:VEVENT
DTSTAMP:20260424T072808Z
UID:44-745059@graceumcforsyth.org
DTSTART:20261025T153000Z
DTEND:20261025T163000Z
CLASS:PUBLIC
CREATED:20260423T225228
DESCRIPTION:
LAST-MODIFIED:20260423T225228
LOCATION:
SUMMARY:Worship
URL;VALUE=URI:https://www.graceumcforsyth.org/events/worship--44/2026-10-25
END:VEVENT
END:VCALENDAR
