BEGIN:VCALENDAR
VERSION:2.0
PRODID:icalendar-ruby
CALSCALE:GREGORIAN
METHOD:PUBLISH
BEGIN:VEVENT
DTSTAMP:20260423T225136Z
UID:44-743665@graceumcforsyth.org
DTSTART:20260913T153000Z
DTEND:20260913T163000Z
CLASS:PUBLIC
CREATED:20260423T170444
DESCRIPTION:
LAST-MODIFIED:20260423T170444
LOCATION:
SUMMARY:Worship
URL;VALUE=URI:https://www.graceumcforsyth.org/events/worship--44/2026-09-13
END:VEVENT
END:VCALENDAR
