BEGIN:VCALENDAR
VERSION:2.0
PRODID:icalendar-ruby
CALSCALE:GREGORIAN
METHOD:PUBLISH
BEGIN:VEVENT
DTSTAMP:20260423T150800Z
UID:44-741578@graceumcforsyth.org
DTSTART:20260809T153000Z
DTEND:20260809T163000Z
CLASS:PUBLIC
CREATED:20260423T082035
DESCRIPTION:
LAST-MODIFIED:20260423T082035
LOCATION:
SUMMARY:Worship
URL;VALUE=URI:https://www.graceumcforsyth.org/events/worship--44/2026-08-09
END:VEVENT
END:VCALENDAR
