BEGIN:VCALENDAR
VERSION:2.0
PRODID:icalendar-ruby
CALSCALE:GREGORIAN
METHOD:PUBLISH
BEGIN:VEVENT
DTSTAMP:20260423T121114Z
UID:44-740882@graceumcforsyth.org
DTSTART:20260726T153000Z
DTEND:20260726T163000Z
CLASS:PUBLIC
CREATED:20260422T225018
DESCRIPTION:
LAST-MODIFIED:20260422T225018
LOCATION:
SUMMARY:Worship
URL;VALUE=URI:https://www.graceumcforsyth.org/events/worship--44/2026-07-26
END:VEVENT
END:VCALENDAR
