BEGIN:VCALENDAR
VERSION:2.0
PRODID:icalendar-ruby
CALSCALE:GREGORIAN
METHOD:PUBLISH
BEGIN:VEVENT
DTSTAMP:20260423T095802Z
UID:35-740617@graceumcforsyth.org
DTSTART:20261101T140000Z
DTEND:20261102T150000Z
CLASS:PUBLIC
CREATED:20260422T225018
DESCRIPTION:
LAST-MODIFIED:20260422T225018
LOCATION:
SUMMARY:Worship
URL;VALUE=URI:https://www.graceumcforsyth.org/events/worship--35/2026-11-01
END:VEVENT
END:VCALENDAR
