BEGIN:VCALENDAR
VERSION:2.0
PRODID:icalendar-ruby
CALSCALE:GREGORIAN
METHOD:PUBLISH
BEGIN:VEVENT
DTSTAMP:20260423T065840Z
UID:35-740615@graceumcforsyth.org
DTSTART:20261018T130000Z
DTEND:20261019T140000Z
CLASS:PUBLIC
CREATED:20260422T225018
DESCRIPTION:
LAST-MODIFIED:20260422T225018
LOCATION:
SUMMARY:Worship
URL;VALUE=URI:https://www.graceumcforsyth.org/events/worship--35/2026-10-18
END:VEVENT
END:VCALENDAR
