BEGIN:VCALENDAR
VERSION:2.0
PRODID:icalendar-ruby
CALSCALE:GREGORIAN
METHOD:PUBLISH
BEGIN:VEVENT
DTSTAMP:20260423T052514Z
UID:35-740614@graceumcforsyth.org
DTSTART:20261011T130000Z
DTEND:20261012T140000Z
CLASS:PUBLIC
CREATED:20260422T225018
DESCRIPTION:
LAST-MODIFIED:20260422T225018
LOCATION:
SUMMARY:Worship
URL;VALUE=URI:https://www.graceumcforsyth.org/events/worship--35/2026-10-11
END:VEVENT
END:VCALENDAR
