BEGIN:VCALENDAR
VERSION:2.0
PRODID:icalendar-ruby
CALSCALE:GREGORIAN
METHOD:PUBLISH
BEGIN:VEVENT
DTSTAMP:20260423T034508Z
UID:35-740613@graceumcforsyth.org
DTSTART:20261004T130000Z
DTEND:20261005T140000Z
CLASS:PUBLIC
CREATED:20260422T225017
DESCRIPTION:
LAST-MODIFIED:20260422T225017
LOCATION:
SUMMARY:Worship
URL;VALUE=URI:https://www.graceumcforsyth.org/events/worship--35/2026-10-04
END:VEVENT
END:VCALENDAR
