BEGIN:VCALENDAR
VERSION:2.0
PRODID:icalendar-ruby
CALSCALE:GREGORIAN
METHOD:PUBLISH
BEGIN:VEVENT
DTSTAMP:20260423T020115Z
UID:35-739918@graceumcforsyth.org
DTSTART:20260927T130000Z
DTEND:20260928T140000Z
CLASS:PUBLIC
CREATED:20260422T195617
DESCRIPTION:
LAST-MODIFIED:20260422T195617
LOCATION:
SUMMARY:Worship
URL;VALUE=URI:https://www.graceumcforsyth.org/events/worship--35/2026-09-27
END:VEVENT
END:VCALENDAR
