BEGIN:VCALENDAR
VERSION:2.0
PRODID:icalendar-ruby
CALSCALE:GREGORIAN
METHOD:PUBLISH
BEGIN:VEVENT
DTSTAMP:20260423T003925Z
UID:35-739917@graceumcforsyth.org
DTSTART:20260920T130000Z
DTEND:20260921T140000Z
CLASS:PUBLIC
CREATED:20260422T195617
DESCRIPTION:
LAST-MODIFIED:20260422T195617
LOCATION:
SUMMARY:Worship
URL;VALUE=URI:https://www.graceumcforsyth.org/events/worship--35/2026-09-20
END:VEVENT
END:VCALENDAR
