BEGIN:VCALENDAR
VERSION:2.0
PRODID:icalendar-ruby
CALSCALE:GREGORIAN
METHOD:PUBLISH
BEGIN:VEVENT
DTSTAMP:20260422T215811Z
UID:11-739010@graceumcforsyth.org
DTSTART:20261021T220000Z
DTEND:20261021T230000Z
CLASS:PUBLIC
CREATED:20260422T170433
DESCRIPTION:Wednesday at El Tejado
LAST-MODIFIED:20260422T170433
LOCATION:
SUMMARY:Wednesday at El Tejado
URL;VALUE=URI:https://www.graceumcforsyth.org/events/wednesday-at-el-tejado
 /2026-10-21
END:VEVENT
END:VCALENDAR
