BEGIN:VCALENDAR
VERSION:2.0
PRODID:icalendar-ruby
CALSCALE:GREGORIAN
METHOD:PUBLISH
BEGIN:VEVENT
DTSTAMP:20260422T171402Z
UID:11-737623@graceumcforsyth.org
DTSTART:20260930T220000Z
DTEND:20260930T230000Z
CLASS:PUBLIC
CREATED:20260422T111427
DESCRIPTION:Wednesday at El Tejado
LAST-MODIFIED:20260422T111427
LOCATION:
SUMMARY:Wednesday at El Tejado
URL;VALUE=URI:https://www.graceumcforsyth.org/events/wednesday-at-el-tejado
 /2026-09-30
END:VEVENT
END:VCALENDAR
