BEGIN:VCALENDAR
VERSION:2.0
PRODID:icalendar-ruby
CALSCALE:GREGORIAN
METHOD:PUBLISH
BEGIN:VEVENT
DTSTAMP:20260422T142403Z
UID:11-736929@graceumcforsyth.org
DTSTART:20260916T220000Z
DTEND:20260916T230000Z
CLASS:PUBLIC
CREATED:20260422T081920
DESCRIPTION:Wednesday at El Tejado
LAST-MODIFIED:20260422T081920
LOCATION:
SUMMARY:Wednesday at El Tejado
URL;VALUE=URI:https://www.graceumcforsyth.org/events/wednesday-at-el-tejado
 /2026-09-16
END:VEVENT
END:VCALENDAR
