BEGIN:VCALENDAR
VERSION:2.0
PRODID:icalendar-ruby
CALSCALE:GREGORIAN
METHOD:PUBLISH
BEGIN:VEVENT
DTSTAMP:20260422T113810Z
UID:11-736235@graceumcforsyth.org
DTSTART:20260902T220000Z
DTEND:20260902T230000Z
CLASS:PUBLIC
CREATED:20260421T211317
DESCRIPTION:Wednesday at El Tejado
LAST-MODIFIED:20260421T211317
LOCATION:
SUMMARY:Wednesday at El Tejado
URL;VALUE=URI:https://www.graceumcforsyth.org/events/wednesday-at-el-tejado
 /2026-09-02
END:VEVENT
END:VCALENDAR
