BEGIN:VCALENDAR
VERSION:2.0
PRODID:icalendar-ruby
CALSCALE:GREGORIAN
METHOD:PUBLISH
BEGIN:VEVENT
DTSTAMP:20260423T131257Z
UID:45-741669@graceumcforsyth.org
DTSTART:20261101T151500Z
DTEND:20261101T161500Z
CLASS:PUBLIC
CREATED:20260423T082035
DESCRIPTION:
LAST-MODIFIED:20260423T082035
LOCATION:Parish Hall
SUMMARY:Adult Bible Study
URL;VALUE=URI:https://www.graceumcforsyth.org/events/adult-bible-study--45/
 2026-11-01
END:VEVENT
END:VCALENDAR
