BEGIN:VCALENDAR
VERSION:2.0
PRODID:icalendar-ruby
CALSCALE:GREGORIAN
METHOD:PUBLISH
BEGIN:VEVENT
DTSTAMP:20260423T085138Z
UID:45-740972@graceumcforsyth.org
DTSTART:20261011T141500Z
DTEND:20261011T151500Z
CLASS:PUBLIC
CREATED:20260422T225018
DESCRIPTION:
LAST-MODIFIED:20260422T225018
LOCATION:Parish Hall
SUMMARY:Adult Bible Study
URL;VALUE=URI:https://www.graceumcforsyth.org/events/adult-bible-study--45/
 2026-10-11
END:VEVENT
END:VCALENDAR
